BEGIN:VCALENDAR
VERSION:2.0
PRODID:-//Feckenham Parish Council - ECPv6.15.18//NONSGML v1.0//EN
CALSCALE:GREGORIAN
METHOD:PUBLISH
X-WR-CALNAME:Feckenham Parish Council
X-ORIGINAL-URL:https://www.feckenham-parishcouncil.gov.uk
X-WR-CALDESC:Events for Feckenham Parish Council
REFRESH-INTERVAL;VALUE=DURATION:PT1H
X-Robots-Tag:noindex
X-PUBLISHED-TTL:PT1H
BEGIN:VTIMEZONE
TZID:Europe/London
BEGIN:DAYLIGHT
TZOFFSETFROM:+0000
TZOFFSETTO:+0100
TZNAME:BST
DTSTART:20230326T010000
END:DAYLIGHT
BEGIN:STANDARD
TZOFFSETFROM:+0100
TZOFFSETTO:+0000
TZNAME:GMT
DTSTART:20231029T010000
END:STANDARD
BEGIN:DAYLIGHT
TZOFFSETFROM:+0000
TZOFFSETTO:+0100
TZNAME:BST
DTSTART:20240331T010000
END:DAYLIGHT
BEGIN:STANDARD
TZOFFSETFROM:+0100
TZOFFSETTO:+0000
TZNAME:GMT
DTSTART:20241027T010000
END:STANDARD
BEGIN:DAYLIGHT
TZOFFSETFROM:+0000
TZOFFSETTO:+0100
TZNAME:BST
DTSTART:20250330T010000
END:DAYLIGHT
BEGIN:STANDARD
TZOFFSETFROM:+0100
TZOFFSETTO:+0000
TZNAME:GMT
DTSTART:20251026T010000
END:STANDARD
BEGIN:DAYLIGHT
TZOFFSETFROM:+0000
TZOFFSETTO:+0100
TZNAME:BST
DTSTART:20260329T010000
END:DAYLIGHT
BEGIN:STANDARD
TZOFFSETFROM:+0100
TZOFFSETTO:+0000
TZNAME:GMT
DTSTART:20261025T010000
END:STANDARD
END:VTIMEZONE
BEGIN:VEVENT
DTSTART;TZID=Europe/London:20251130T193000
DTEND;TZID=Europe/London:20251130T193000
DTSTAMP:20260418T104510
CREATED:20251130T101015Z
LAST-MODIFIED:20251130T101015Z
UID:4465-1764531000-1764531000@www.feckenham-parishcouncil.gov.uk
SUMMARY:Parish Council meeting 2nd July at 7.30pm
DESCRIPTION:This meeting will be held at Feckenham Village Hall. Members of the public are welcome to attend; please see the agenda for more details.
URL:https://www.feckenham-parishcouncil.gov.uk/event/parish-council-meeting-2nd-july-at-7-30pm
LOCATION:Feckenham Village Hall Back Room
CATEGORIES:Parish Council Meetings
END:VEVENT
BEGIN:VEVENT
DTSTART;TZID=Europe/London:20251113T193000
DTEND;TZID=Europe/London:20251113T193000
DTSTAMP:20260418T104510
CREATED:20241231T182627Z
LAST-MODIFIED:20251130T181921Z
UID:3502-1763062200-1763062200@www.feckenham-parishcouncil.gov.uk
SUMMARY:Parish Council Meeting 13th November at 7.30pm
DESCRIPTION:This meeting will be held at Feckenham Village Hall. Members of the public are welcome to attend; please see the agenda for more details.
URL:https://www.feckenham-parishcouncil.gov.uk/event/parish-council-meeting-13th-november-at-7-30pm
LOCATION:Feckenham Village Hall Back Room
CATEGORIES:Parish Council Meetings
END:VEVENT
BEGIN:VEVENT
DTSTART;TZID=Europe/London:20251105T193000
DTEND;TZID=Europe/London:20251105T193000
DTSTAMP:20260418T104510
CREATED:20251130T101354Z
LAST-MODIFIED:20251130T101354Z
UID:4474-1762371000-1762371000@www.feckenham-parishcouncil.gov.uk
SUMMARY:Parish Council meeting 5th November at 7.30pm
DESCRIPTION:This meeting will be held at Feckenham Village Hall. Members of the public are welcome to attend; please see the agenda for more details.
URL:https://www.feckenham-parishcouncil.gov.uk/event/parish-council-meeting-5th-november-at-7-30pm
LOCATION:Feckenham Village Hall Back Room
CATEGORIES:Parish Council Meetings
END:VEVENT
BEGIN:VEVENT
DTSTART;TZID=Europe/London:20251009T193000
DTEND;TZID=Europe/London:20251009T193000
DTSTAMP:20260418T104510
CREATED:20241231T182305Z
LAST-MODIFIED:20251130T103243Z
UID:3494-1760038200-1760038200@www.feckenham-parishcouncil.gov.uk
SUMMARY:Parish Council Meeting 9th October at 7.30pm
DESCRIPTION:This meeting will be held at Feckenham Village Hall. Members of the public are welcome to attend; please see the agenda for more details.
URL:https://www.feckenham-parishcouncil.gov.uk/event/parish-council-meeting-9th-october-at-7-30pm
LOCATION:Feckenham Village Hall Back Room
CATEGORIES:Parish Council Meetings
END:VEVENT
BEGIN:VEVENT
DTSTART;TZID=Europe/London:20250918T193000
DTEND;TZID=Europe/London:20250918T193000
DTSTAMP:20260418T104510
CREATED:20241231T182127Z
LAST-MODIFIED:20251019T133328Z
UID:3491-1758223800-1758223800@www.feckenham-parishcouncil.gov.uk
SUMMARY:Parish Council Meeting 18th September at 7.30pm
DESCRIPTION:This meeting will be held at Feckenham Village Hall. Members of the public are welcome to attend; please see the agenda for more details.
URL:https://www.feckenham-parishcouncil.gov.uk/event/parish-council-meeting-11th-september-at-7-30pm
LOCATION:Feckenham Village Hall Back Room
CATEGORIES:Parish Council Meetings
END:VEVENT
BEGIN:VEVENT
DTSTART;TZID=Europe/London:20250710T193000
DTEND;TZID=Europe/London:20250710T193000
DTSTAMP:20260418T104510
CREATED:20250706T171909Z
LAST-MODIFIED:20251019T133243Z
UID:4245-1752175800-1752175800@www.feckenham-parishcouncil.gov.uk
SUMMARY:Parish Council Meeting 10th July at 7.30pm
DESCRIPTION:This meeting will be held at Feckenham Village Hall. Members of the public are welcome to attend; please see the agenda for more details.
URL:https://www.feckenham-parishcouncil.gov.uk/event/parish-council-meeting-10th-july-at-7-30pm-2
LOCATION:Feckenham Village Hall Back Room
CATEGORIES:Parish Council Meetings
END:VEVENT
BEGIN:VEVENT
DTSTART;TZID=Europe/London:20250710T193000
DTEND;TZID=Europe/London:20250710T193000
DTSTAMP:20260418T104510
CREATED:20241231T182018Z
LAST-MODIFIED:20250402T134459Z
UID:3488-1752175800-1752175800@www.feckenham-parishcouncil.gov.uk
SUMMARY:Parish Council Meeting 10th July at 7.30pm
DESCRIPTION:This meeting will be held at Feckenham Village Hall. Members of the public are welcome to attend; please see the agenda for more details.
URL:https://www.feckenham-parishcouncil.gov.uk/event/parish-council-meeting-10th-july-at-7-30pm
LOCATION:Feckenham Village Hall Back Room
CATEGORIES:Parish Council Meetings
END:VEVENT
BEGIN:VEVENT
DTSTART;TZID=Europe/London:20250626T190000
DTEND;TZID=Europe/London:20250626T190000
DTSTAMP:20260418T104510
CREATED:20250622T115536Z
LAST-MODIFIED:20250712T164958Z
UID:4229-1750964400-1750964400@www.feckenham-parishcouncil.gov.uk
SUMMARY:Parish Council Extra Ordinary Meeting 26th June at 7.00pm
DESCRIPTION:This meeting will be held at Feckenham Village Hall. Members of the public are welcome to attend; please see the agenda for more details.
URL:https://www.feckenham-parishcouncil.gov.uk/event/parish-council-extra-ordinary-meeting-26th-june-at-7-00pm
LOCATION:Feckenham Village Hall Back Room
CATEGORIES:Parish Council Meetings
END:VEVENT
BEGIN:VEVENT
DTSTART;TZID=Europe/London:20250612T193000
DTEND;TZID=Europe/London:20250612T193000
DTSTAMP:20260418T104510
CREATED:20241231T181903Z
LAST-MODIFIED:20250707T102317Z
UID:3485-1749756600-1749756600@www.feckenham-parishcouncil.gov.uk
SUMMARY:Parish Council Meeting 12th June at 7.30pm
DESCRIPTION:This meeting will be held at Feckenham Village Hall. Members of the public are welcome to attend; please see the agenda for more details.
URL:https://www.feckenham-parishcouncil.gov.uk/event/parish-council-meeting12th-june-at-7-30pm
LOCATION:Feckenham Village Hall Back Room
CATEGORIES:Parish Council Meetings
END:VEVENT
BEGIN:VEVENT
DTSTART;TZID=Europe/London:20250606T100000
DTEND;TZID=Europe/London:20250606T180000
DTSTAMP:20260418T104510
CREATED:20250606T100315Z
LAST-MODIFIED:20250614T100717Z
UID:4182-1749204000-1749232800@www.feckenham-parishcouncil.gov.uk
SUMMARY:Public Consultation on Redditch New Plan Tuesday 10th June 10.00- 6pm
DESCRIPTION:BESS FLYER 2505 A4 01 May 2025
URL:https://www.feckenham-parishcouncil.gov.uk/event/public-consultation-on-redditch-new-plan-tuesday-10th-june-10-00-6pm
END:VEVENT
BEGIN:VEVENT
DTSTART;TZID=Europe/London:20250510T120000
DTEND;TZID=Europe/London:20250510T140000
DTSTAMP:20260418T104510
CREATED:20250415T103347Z
LAST-MODIFIED:20250415T103531Z
UID:3857-1746878400-1746885600@www.feckenham-parishcouncil.gov.uk
SUMMARY:Feckenham Litter pick 10th May 2025
DESCRIPTION:Volunteers Saturday 10 May 2025
URL:https://www.feckenham-parishcouncil.gov.uk/event/feckenham-litter-pick-10th-may-2025
CATEGORIES:Local Events
END:VEVENT
BEGIN:VEVENT
DTSTART;TZID=Europe/London:20250508T193000
DTEND;TZID=Europe/London:20250508T193000
DTSTAMP:20260418T104510
CREATED:20250505T180121Z
LAST-MODIFIED:20250617T182359Z
UID:3937-1746732600-1746732600@www.feckenham-parishcouncil.gov.uk
SUMMARY:Annual Parish Council Meeting
DESCRIPTION:This meeting will be held at Feckenham Village Hall. Members of the public are welcome to attend; please see the agenda for more details.
URL:https://www.feckenham-parishcouncil.gov.uk/event/annual-parish-council-meeting-3
LOCATION:Feckenham Village Hall Back Room
CATEGORIES:Parish Council Meetings
END:VEVENT
BEGIN:VEVENT
DTSTART;TZID=Europe/London:20250508T193000
DTEND;TZID=Europe/London:20250508T193000
DTSTAMP:20260418T104510
CREATED:20250505T175853Z
LAST-MODIFIED:20250505T175853Z
UID:3934-1746732600-1746732600@www.feckenham-parishcouncil.gov.uk
SUMMARY:Annual Parish Council Meeting
DESCRIPTION:This meeting will be held at Feckenham Village Hall. Members of the public are welcome to attend; please see the agenda for more details.
URL:https://www.feckenham-parishcouncil.gov.uk/event/annual-parish-council-meeting-2
LOCATION:Feckenham Village Hall Back Room
CATEGORIES:Parish Council Meetings
END:VEVENT
BEGIN:VEVENT
DTSTART;TZID=Europe/London:20250508T193000
DTEND;TZID=Europe/London:20250508T193000
DTSTAMP:20260418T104510
CREATED:20250505T175235Z
LAST-MODIFIED:20250505T175235Z
UID:3931-1746732600-1746732600@www.feckenham-parishcouncil.gov.uk
SUMMARY:Annual Parish Council Meeting 8th May 2025
DESCRIPTION:This meeting will be held at Feckenham Village Hall. Members of the public are welcome to attend; please see the agenda for more details.
URL:https://www.feckenham-parishcouncil.gov.uk/event/annual-parish-council-meeting-8th-may-2025-2
LOCATION:Feckenham Village Hall Back Room
CATEGORIES:Parish Council Meetings
END:VEVENT
BEGIN:VEVENT
DTSTART;TZID=Europe/London:20250508T193000
DTEND;TZID=Europe/London:20250508T193000
DTSTAMP:20260418T104510
CREATED:20250402T130504Z
LAST-MODIFIED:20250617T182042Z
UID:3802-1746732600-1746732600@www.feckenham-parishcouncil.gov.uk
SUMMARY:Annual Parish Council Meeting 8th May 2025
DESCRIPTION:This meeting will be held at Feckenham Village Hall. Members of the public are welcome to attend; please see the agenda for more details.
URL:https://www.feckenham-parishcouncil.gov.uk/event/annual-parish-council-meeting-8th-may-2025
LOCATION:Feckenham Village Hall Back Room
CATEGORIES:Parish Council Meetings
END:VEVENT
BEGIN:VEVENT
DTSTART;TZID=Europe/London:20250508T193000
DTEND;TZID=Europe/London:20250508T193000
DTSTAMP:20260418T104510
CREATED:20241231T181523Z
LAST-MODIFIED:20250402T130158Z
UID:3473-1746732600-1746732600@www.feckenham-parishcouncil.gov.uk
SUMMARY:Annual Parish Council Meeting 8th May at 7.30pm
DESCRIPTION:This meeting will be held at Feckenham Village Hall. Members of the public are welcome to attend; please see the agenda for more details.
URL:https://www.feckenham-parishcouncil.gov.uk/event/annual-parish-council-meeting-8th-may-at-7-30pm
LOCATION:Feckenham Village Hall Back Room
CATEGORIES:Parish Council Meetings
END:VEVENT
BEGIN:VEVENT
DTSTART;TZID=Europe/London:20250410T194500
DTEND;TZID=Europe/London:20250410T194500
DTSTAMP:20260418T104510
CREATED:20241231T181711Z
LAST-MODIFIED:20250416T214023Z
UID:3480-1744314300-1744314300@www.feckenham-parishcouncil.gov.uk
SUMMARY:Parish Council Meeting 10th April at 7.45pm
DESCRIPTION:This meeting will be held at Feckenham Village Hall. Members of the public are welcome to attend; please see the agenda for more details.
URL:https://www.feckenham-parishcouncil.gov.uk/event/parish-council-meeting-10th-april-at-7-45pm
LOCATION:Feckenham Village Hall Back Room
CATEGORIES:Parish Council Meetings
END:VEVENT
BEGIN:VEVENT
DTSTART;TZID=Europe/London:20250410T193000
DTEND;TZID=Europe/London:20250410T193000
DTSTAMP:20260418T104510
CREATED:20260417T164541Z
LAST-MODIFIED:20260417T164541Z
UID:4839-1744313400-1744313400@www.feckenham-parishcouncil.gov.uk
SUMMARY:Annual Parish Meeting 10th April 2025
DESCRIPTION:This meeting will be held at Feckenham Village Hall. Members of the public are welcome to attend; please see the agenda for more details.
URL:https://www.feckenham-parishcouncil.gov.uk/event/annual-parish-meeting-10th-april-2025
LOCATION:Feckenham Village Hall Back Room
CATEGORIES:Parish Council Meetings
END:VEVENT
BEGIN:VEVENT
DTSTART;TZID=Europe/London:20250410T193000
DTEND;TZID=Europe/London:20250410T193000
DTSTAMP:20260418T104510
CREATED:20241231T181731Z
LAST-MODIFIED:20250523T190745Z
UID:3482-1744313400-1744313400@www.feckenham-parishcouncil.gov.uk
SUMMARY:Annual Parish Meeting 10th April at 7.30pm
DESCRIPTION:This meeting will be held at Feckenham Village Hall. Members of the public are welcome to attend; please see the agenda for more details.
URL:https://www.feckenham-parishcouncil.gov.uk/event/annual-parish-meeting-10th-april-at-7-30pm
LOCATION:Feckenham Village Hall Back Room
CATEGORIES:Parish Council Meetings
END:VEVENT
BEGIN:VEVENT
DTSTART;TZID=Europe/London:20250313T193000
DTEND;TZID=Europe/London:20250313T193000
DTSTAMP:20260418T104510
CREATED:20250402T145126Z
LAST-MODIFIED:20250416T180547Z
UID:3835-1741894200-1741894200@www.feckenham-parishcouncil.gov.uk
SUMMARY:Parish Council Meeting 13th March 2025
DESCRIPTION:This meeting will be held at Feckenham Village Hall. Members of the public are welcome to attend; please see the agenda for more details.
URL:https://www.feckenham-parishcouncil.gov.uk/event/parish-council-meeting-13th-march-2025-2
LOCATION:Feckenham Village Hall Back Room
CATEGORIES:Parish Council Meetings
END:VEVENT
BEGIN:VEVENT
DTSTART;TZID=Europe/London:20250313T193000
DTEND;TZID=Europe/London:20250313T193000
DTSTAMP:20260418T104510
CREATED:20250313T132536Z
LAST-MODIFIED:20250402T144852Z
UID:3738-1741894200-1741894200@www.feckenham-parishcouncil.gov.uk
SUMMARY:Parish Council Meeting 13th March 2025
DESCRIPTION:This meeting will be held at Feckenham Village Hall. Members of the public are welcome to attend; please see the agenda for more details.
URL:https://www.feckenham-parishcouncil.gov.uk/event/parish-council-meeting-13th-march-2025
LOCATION:Feckenham Village Hall Back Room
CATEGORIES:Parish Council Meetings
END:VEVENT
BEGIN:VEVENT
DTSTART;TZID=Europe/London:20250313T193000
DTEND;TZID=Europe/London:20250313T193000
DTSTAMP:20260418T104510
CREATED:20241231T181647Z
LAST-MODIFIED:20250313T132313Z
UID:3478-1741894200-1741894200@www.feckenham-parishcouncil.gov.uk
SUMMARY:Parish Council Meeting 7.30pm 13th March
DESCRIPTION:This meeting will be held at Feckenham Village Hall. Members of the public are welcome to attend; please see the agenda for more details.
URL:https://www.feckenham-parishcouncil.gov.uk/event/parish-council-meeting-7-30pm-13th-march
LOCATION:Feckenham Village Hall Back Room
CATEGORIES:Parish Council Meetings
END:VEVENT
BEGIN:VEVENT
DTSTART;TZID=Europe/London:20250213T193000
DTEND;TZID=Europe/London:20250213T193000
DTSTAMP:20260418T104510
CREATED:20241231T181624Z
LAST-MODIFIED:20250320T193641Z
UID:3476-1739475000-1739475000@www.feckenham-parishcouncil.gov.uk
SUMMARY:Parish Council Meeting 7.30pm 13th February
DESCRIPTION:This meeting will be held at Feckenham Village Hall. Members of the public are welcome to attend; please see the agenda for more details.
URL:https://www.feckenham-parishcouncil.gov.uk/event/parish-council-meeting-7-30pm-13th-february
LOCATION:Feckenham Village Hall Back Room
CATEGORIES:Parish Council Meetings
END:VEVENT
BEGIN:VEVENT
DTSTART;TZID=Europe/London:20250109T193000
DTEND;TZID=Europe/London:20250109T193000
DTSTAMP:20260418T104510
CREATED:20241231T010449Z
LAST-MODIFIED:20250416T093952Z
UID:3459-1736451000-1736451000@www.feckenham-parishcouncil.gov.uk
SUMMARY:Parish Council meeting 9th January 2025
DESCRIPTION:This meeting will be held at Feckenham Village Hall. Members of the public are welcome to attend; please see the agenda for more details.
URL:https://www.feckenham-parishcouncil.gov.uk/event/paris-council-meeting-9th-january-2025
LOCATION:Feckenham Village Hall Back Room
CATEGORIES:Parish Council Meetings
END:VEVENT
BEGIN:VEVENT
DTSTART;TZID=Europe/London:20241212T193000
DTEND;TZID=Europe/London:20241212T193000
DTSTAMP:20260418T104510
CREATED:20241231T182552Z
LAST-MODIFIED:20250402T123316Z
UID:3499-1734031800-1734031800@www.feckenham-parishcouncil.gov.uk
SUMMARY:Parish Council Meeting 12th December at 7.30pm
DESCRIPTION:This meeting will be held at Feckenham Village Hall. Members of the public are welcome to attend; please see the agenda for more details.
URL:https://www.feckenham-parishcouncil.gov.uk/event/parish-council-meeting-11th-december-at-7-30pm
LOCATION:Feckenham Village Hall Back Room
CATEGORIES:Parish Council Meetings
END:VEVENT
BEGIN:VEVENT
DTSTART;TZID=Europe/London:20241212T193000
DTEND;TZID=Europe/London:20241212T193000
DTSTAMP:20260418T104510
CREATED:20240529T163430Z
LAST-MODIFIED:20241209T000603Z
UID:2758-1734031800-1734031800@www.feckenham-parishcouncil.gov.uk
SUMMARY:Parish Council Meeting 12th December at 7.30pm
DESCRIPTION:This meeting will be held at Feckenham Village Hall. Members of the public are welcome to attend; please see the agenda for more details.
URL:https://www.feckenham-parishcouncil.gov.uk/event/parish-council-meeting-12th-december-at-7-30pm
LOCATION:Feckenham Village Hall Back Room
CATEGORIES:Parish Council Meetings
END:VEVENT
BEGIN:VEVENT
DTSTART;TZID=Europe/London:20241114T193000
DTEND;TZID=Europe/London:20241114T193000
DTSTAMP:20260418T104510
CREATED:20241110T154343Z
LAST-MODIFIED:20241223T181700Z
UID:3301-1731612600-1731612600@www.feckenham-parishcouncil.gov.uk
SUMMARY:Parish Council Meeting
DESCRIPTION:This meeting will be held at Feckenham Village Hall. Members of the public are welcome to attend; please see the agenda for more details.
URL:https://www.feckenham-parishcouncil.gov.uk/event/parish-council-meeting-7
LOCATION:Feckenham Village Hall Back Room
CATEGORIES:Parish Council Meetings
END:VEVENT
BEGIN:VEVENT
DTSTART;TZID=Europe/London:20241108T170000
DTEND;TZID=Europe/London:20241108T170000
DTSTAMP:20260418T104510
CREATED:20241030T162621Z
LAST-MODIFIED:20241124T125548Z
UID:3270-1731085200-1731085200@www.feckenham-parishcouncil.gov.uk
SUMMARY:Notice of Co-Option vacancy
DESCRIPTION:Casual vacancy for Co-option Nov 24. Closing date8th of December_0001
URL:https://www.feckenham-parishcouncil.gov.uk/event/notice-of-co-option-vacancy
CATEGORIES:Local Events
END:VEVENT
BEGIN:VEVENT
DTSTART;TZID=Europe/London:20241107T193000
DTEND;TZID=Europe/London:20241107T193000
DTSTAMP:20260418T104510
CREATED:20231122T221316Z
LAST-MODIFIED:20240221T212532Z
UID:2223-1731007800-1731007800@www.feckenham-parishcouncil.gov.uk
SUMMARY:Feckenham Parish Council Meeting 7th November 23 at 7.30pm\, Back Room\, Village Hall
DESCRIPTION:This meeting will be held at Feckenham Village Hall. Members of the public are welcome to attend; please see the agenda for more details.
URL:https://www.feckenham-parishcouncil.gov.uk/event/feckenham-parish-council-meeting-7th-november-23-at-7-30pm-back-room-village-hall
LOCATION:Feckenham Village Hall Back Room
CATEGORIES:Parish Council Meetings
END:VEVENT
BEGIN:VEVENT
DTSTART;TZID=Europe/London:20241010T193000
DTEND;TZID=Europe/London:20241010T193000
DTSTAMP:20260418T104510
CREATED:20250416T125447Z
LAST-MODIFIED:20250416T125447Z
UID:3887-1728588600-1728588600@www.feckenham-parishcouncil.gov.uk
SUMMARY:Parish Council Meeting 10th October 2024
DESCRIPTION:This meeting will be held at Feckenham Village Hall. Members of the public are welcome to attend; please see the agenda for more details.
URL:https://www.feckenham-parishcouncil.gov.uk/event/parish-council-meeting-10th-october-2024
LOCATION:Feckenham Village Hall Back Room
CATEGORIES:Parish Council Meetings
END:VEVENT
END:VCALENDAR